BEGIN:VCALENDAR
VERSION:2.0
PRODID:-//theatresaintecatherine - ECPv6.15.20//NONSGML v1.0//EN
CALSCALE:GREGORIAN
METHOD:PUBLISH
X-WR-CALNAME:theatresaintecatherine
X-ORIGINAL-URL:https://theatresaintecatherine.com
X-WR-CALDESC:Évènements pour theatresaintecatherine
REFRESH-INTERVAL;VALUE=DURATION:PT1H
X-Robots-Tag:noindex
X-PUBLISHED-TTL:PT1H
BEGIN:VTIMEZONE
TZID:America/Toronto
BEGIN:DAYLIGHT
TZOFFSETFROM:-0500
TZOFFSETTO:-0400
TZNAME:EDT
DTSTART:20250309T070000
END:DAYLIGHT
BEGIN:STANDARD
TZOFFSETFROM:-0400
TZOFFSETTO:-0500
TZNAME:EST
DTSTART:20251102T060000
END:STANDARD
BEGIN:DAYLIGHT
TZOFFSETFROM:-0500
TZOFFSETTO:-0400
TZNAME:EDT
DTSTART:20260308T070000
END:DAYLIGHT
BEGIN:STANDARD
TZOFFSETFROM:-0400
TZOFFSETTO:-0500
TZNAME:EST
DTSTART:20261101T060000
END:STANDARD
BEGIN:DAYLIGHT
TZOFFSETFROM:-0500
TZOFFSETTO:-0400
TZNAME:EDT
DTSTART:20270314T070000
END:DAYLIGHT
BEGIN:STANDARD
TZOFFSETFROM:-0400
TZOFFSETTO:-0500
TZNAME:EST
DTSTART:20271107T060000
END:STANDARD
END:VTIMEZONE
BEGIN:VEVENT
DTSTART;TZID=America/Toronto:20260529T193000
DTEND;TZID=America/Toronto:20260529T210000
DTSTAMP:20260420T121451
CREATED:20260415T195216Z
LAST-MODIFIED:20260415T195553Z
UID:10006876-1780083000-1780088400@theatresaintecatherine.com
SUMMARY:Juste Miben
DESCRIPTION:Juste Miben\, c’est Mibenson Sylvain à 100 % : drôle\, allumé pis prêt à te partager ses confidences. Un show où tu ris fort tout en ayant l’impression de jaser avec un chum.\n			\n				Billets
URL:https://theatresaintecatherine.com/event/juste-miben/
LOCATION:Théâtre Sainte-Catherine\, 264 Sainte-Catherine Est\, Montréal\, QC\, H2X 1L4\, Canada
CATEGORIES:Music,Musique
ATTACH;FMTTYPE=image/png:https://theatresaintecatherine.com/wp-content/uploads/2026/04/tsc251003001-1152x648-en-68b9d014.png
END:VEVENT
BEGIN:VEVENT
DTSTART;TZID=America/Toronto:20260530T213000
DTEND;TZID=America/Toronto:20260530T230000
DTSTAMP:20260420T121451
CREATED:20260415T195743Z
LAST-MODIFIED:20260415T195812Z
UID:10006878-1780176600-1780182000@theatresaintecatherine.com
SUMMARY:Juste Miben
DESCRIPTION:Juste Miben\, c’est Mibenson Sylvain à 100 % : drôle\, allumé pis prêt à te partager ses confidences. Un show où tu ris fort tout en ayant l’impression de jaser avec un chum.\n			\n				Billets
URL:https://theatresaintecatherine.com/event/juste-miben-2/
LOCATION:Théâtre Sainte-Catherine\, 264 Sainte-Catherine Est\, Montréal\, QC\, H2X 1L4\, Canada
CATEGORIES:Music,Musique
ATTACH;FMTTYPE=image/png:https://theatresaintecatherine.com/wp-content/uploads/2026/04/tsc251003001-1152x648-en-68b9d014.png
END:VEVENT
BEGIN:VEVENT
DTSTART;TZID=America/Toronto:20260530T213000
DTEND;TZID=America/Toronto:20260530T230000
DTSTAMP:20260420T121451
CREATED:20260415T200028Z
LAST-MODIFIED:20260415T200103Z
UID:10006880-1780176600-1780182000@theatresaintecatherine.com
SUMMARY:Juste Miben
DESCRIPTION:Juste Miben\, c’est Mibenson Sylvain à 100 % : drôle\, allumé pis prêt à te partager ses confidences. Un show où tu ris fort tout en ayant l’impression de jaser avec un chum.\n			\n				Billets
URL:https://theatresaintecatherine.com/event/juste-miben-4/
LOCATION:Théâtre Sainte-Catherine\, 264 Sainte-Catherine Est\, Montréal\, QC\, H2X 1L4\, Canada
CATEGORIES:Music,Musique
ATTACH;FMTTYPE=image/png:https://theatresaintecatherine.com/wp-content/uploads/2026/04/tsc251003001-1152x648-en-68b9d014.png
END:VEVENT
BEGIN:VEVENT
DTSTART;TZID=America/Toronto:20260606T193000
DTEND;TZID=America/Toronto:20260606T213000
DTSTAMP:20260420T121451
CREATED:20260402T195308Z
LAST-MODIFIED:20260402T195757Z
UID:10006825-1780774200-1780781400@theatresaintecatherine.com
SUMMARY:Sing and Slay
DESCRIPTION:A sing-along screening of the cult-favorite Buffy the Vampire Slayer musical episode\, “Once More\, with Feeling\,” featuring trivia\, prizes\, and costumes highly encouraged!\n			\n				Billets
URL:https://theatresaintecatherine.com/event/sing-and-slay/
LOCATION:Théâtre Sainte-Catherine\, 264 Sainte-Catherine Est\, Montréal\, QC\, H2X 1L4\, Canada
CATEGORIES:Music,Musique
ATTACH;FMTTYPE=image/jpeg:https://theatresaintecatherine.com/wp-content/uploads/2026/04/Untitled_Artwork-1.jpg
END:VEVENT
END:VCALENDAR